BEGIN:VCALENDAR
VERSION:2.0
PRODID:-//Ntokosi Skills Development  - ECPv4.9.10//NONSGML v1.0//EN
CALSCALE:GREGORIAN
METHOD:PUBLISH
X-WR-CALNAME:Ntokosi Skills Development 
X-ORIGINAL-URL:https://ntokosisd.co.za
X-WR-CALDESC:Events for Ntokosi Skills Development 
BEGIN:VTIMEZONE
TZID:UTC
BEGIN:STANDARD
TZOFFSETFROM:+0000
TZOFFSETTO:+0000
TZNAME:UTC
DTSTART:20190101T000000
END:STANDARD
END:VTIMEZONE
BEGIN:VEVENT
DTSTART;TZID=UTC:20191121T130000
DTEND;TZID=UTC:20191121T170000
DTSTAMP:20260424T171801
CREATED:20191106T073022Z
LAST-MODIFIED:20191106T073144Z
UID:3403-1574341200-1574355600@ntokosisd.co.za
SUMMARY:Isizul FAL Exam readiness workshop paper 2 (Grade 12 IEB)
DESCRIPTION:\n					\n						\n\n					\n				\n\n					\n						\n\n					\n				\nContact us \ninfo@ntokosisd.co.za \n083 885 8276 \ 082 308 9959 \n011 933 1631 \n  \nProgram schedule for the day \n  \nTime                                    Item \n13:00-14:00                       contextual questions \n14:00-15:10                       Theoretical questions \n15:00-15:15                       Break \n15:15-16:15                       long pieces \n16:15-17:00                       short pieces \n
URL:https://ntokosisd.co.za/event/isizul-fal-exam-readiness-workshop-paper-2-grade-12-ieb/
LOCATION:King David (victory park )
CATEGORIES:Workshop
ATTACH;FMTTYPE=image/jpeg:https://ntokosisd.co.za/wp-content/uploads/2019/11/WhatsApp-Image-2019-11-05-at-11.39.13.jpeg
END:VEVENT
END:VCALENDAR